BEGIN:VCALENDAR
VERSION:2.0
PRODID:-//Shallowater Texas - ECPv6.15.17.1//NONSGML v1.0//EN
CALSCALE:GREGORIAN
METHOD:PUBLISH
X-ORIGINAL-URL:https://shallowatertx.us
X-WR-CALDESC:Events for Shallowater Texas
REFRESH-INTERVAL;VALUE=DURATION:PT1H
X-Robots-Tag:noindex
X-PUBLISHED-TTL:PT1H
BEGIN:VTIMEZONE
TZID:America/Chicago
BEGIN:DAYLIGHT
TZOFFSETFROM:-0600
TZOFFSETTO:-0500
TZNAME:CDT
DTSTART:20200308T080000
END:DAYLIGHT
BEGIN:STANDARD
TZOFFSETFROM:-0500
TZOFFSETTO:-0600
TZNAME:CST
DTSTART:20201101T070000
END:STANDARD
BEGIN:DAYLIGHT
TZOFFSETFROM:-0600
TZOFFSETTO:-0500
TZNAME:CDT
DTSTART:20210314T080000
END:DAYLIGHT
BEGIN:STANDARD
TZOFFSETFROM:-0500
TZOFFSETTO:-0600
TZNAME:CST
DTSTART:20211107T070000
END:STANDARD
BEGIN:DAYLIGHT
TZOFFSETFROM:-0600
TZOFFSETTO:-0500
TZNAME:CDT
DTSTART:20220313T080000
END:DAYLIGHT
BEGIN:STANDARD
TZOFFSETFROM:-0500
TZOFFSETTO:-0600
TZNAME:CST
DTSTART:20221106T070000
END:STANDARD
END:VTIMEZONE
BEGIN:VEVENT
DTSTART;VALUE=DATE:20210501
DTEND;VALUE=DATE:20210502
DTSTAMP:20260420T073808
CREATED:20210205T010242Z
LAST-MODIFIED:20210326T222103Z
UID:10000054-1619827200-1619913599@shallowatertx.us
SUMMARY:City Council and School Board General Election
DESCRIPTION:City of Shallowater City Council and SISD School Board Election at Shallowater Community Center 902 Avenue H
URL:https://shallowatertx.us/event/city-council-and-school-board-general-election/
CATEGORIES:Election
END:VEVENT
BEGIN:VEVENT
DTSTART;VALUE=DATE:20210501
DTEND;VALUE=DATE:20210502
DTSTAMP:20260420T073808
CREATED:20210326T221542Z
LAST-MODIFIED:20210326T221542Z
UID:10000003-1619827200-1619913599@shallowatertx.us
SUMMARY:City Wide Garage Sale
DESCRIPTION:
URL:https://shallowatertx.us/event/city-wide-garage-sale/
END:VEVENT
BEGIN:VEVENT
DTSTART;VALUE=DATE:20210501
DTEND;VALUE=DATE:20210502
DTSTAMP:20260420T073808
CREATED:20210326T221657Z
LAST-MODIFIED:20210326T223428Z
UID:10000002-1619827200-1619913599@shallowatertx.us
SUMMARY:Lemonade Day
DESCRIPTION:
URL:https://shallowatertx.us/event/lemonade-day/
END:VEVENT
BEGIN:VEVENT
DTSTART;TZID=America/Chicago:20210501T070000
DTEND;TZID=America/Chicago:20210501T090000
DTSTAMP:20260420T073808
CREATED:20210326T222016Z
LAST-MODIFIED:20210326T222633Z
UID:10000075-1619852400-1619859600@shallowatertx.us
SUMMARY:Fun Run
DESCRIPTION:
URL:https://shallowatertx.us/event/fun-run/
END:VEVENT
BEGIN:VEVENT
DTSTART;TZID=America/Chicago:20210501T110000
DTEND;TZID=America/Chicago:20210501T150000
DTSTAMP:20260420T073808
CREATED:20210326T222553Z
LAST-MODIFIED:20210417T215524Z
UID:10000076-1619866800-1619881200@shallowatertx.us
SUMMARY:Downtown Vending and Food Trucks
DESCRIPTION:Downtown Vending and Food Trucks 
URL:https://shallowatertx.us/event/downtown-vending-and-food-trucks/
END:VEVENT
END:VCALENDAR