BEGIN:VCALENDAR
VERSION:2.0
PRODID:-//Shallowater Texas - ECPv6.15.17.1//NONSGML v1.0//EN
CALSCALE:GREGORIAN
METHOD:PUBLISH
X-ORIGINAL-URL:https://shallowatertx.us
X-WR-CALDESC:Events for Shallowater Texas
REFRESH-INTERVAL;VALUE=DURATION:PT1H
X-Robots-Tag:noindex
X-PUBLISHED-TTL:PT1H
BEGIN:VTIMEZONE
TZID:America/Chicago
BEGIN:DAYLIGHT
TZOFFSETFROM:-0600
TZOFFSETTO:-0500
TZNAME:CDT
DTSTART:20190310T080000
END:DAYLIGHT
BEGIN:STANDARD
TZOFFSETFROM:-0500
TZOFFSETTO:-0600
TZNAME:CST
DTSTART:20191103T070000
END:STANDARD
BEGIN:DAYLIGHT
TZOFFSETFROM:-0600
TZOFFSETTO:-0500
TZNAME:CDT
DTSTART:20200308T080000
END:DAYLIGHT
BEGIN:STANDARD
TZOFFSETFROM:-0500
TZOFFSETTO:-0600
TZNAME:CST
DTSTART:20201101T070000
END:STANDARD
BEGIN:DAYLIGHT
TZOFFSETFROM:-0600
TZOFFSETTO:-0500
TZNAME:CDT
DTSTART:20210314T080000
END:DAYLIGHT
BEGIN:STANDARD
TZOFFSETFROM:-0500
TZOFFSETTO:-0600
TZNAME:CST
DTSTART:20211107T070000
END:STANDARD
END:VTIMEZONE
BEGIN:VEVENT
DTSTART;TZID=America/Chicago:20200615T190000
DTEND;TZID=America/Chicago:20200615T200000
DTSTAMP:20260420T235658
CREATED:20190812T152354Z
LAST-MODIFIED:20210320T020154Z
UID:10000070-1592247600-1592251200@shallowatertx.us
SUMMARY:City Council Meeting
DESCRIPTION:
URL:https://shallowatertx.us/event/city-council-meeting/2020-06-15/
LOCATION:Police Dept Annex\, 607 Ave. G\, Shallowater\, TX\, 79363
CATEGORIES:City Council
END:VEVENT
END:VCALENDAR